View In:
ArcGIS JavaScript
ArcGIS Online Map Viewer
ArcGIS Earth
ArcMap
View Footprint In:
ArcGIS Online Map Viewer
Service Description: CDED data can be used in the generation of three-dimensional graphics displaying terrain slope, profiles and line of sight. The following is copied from cded_086e08_1_0_fgdc_en.xml Product Specifications, Edition 2.1, October 2005. This product is subject to discrepancies detection process. A discrepancy is defined as any deviation of dataset (or metadata) from the product's Standards and Specifications. For information on detected discrepancies refer to the discrepancy section for this product on host Web portal. Minimum Elevation (Z) in meters: 180 Maximum Elevation (Z) in meters: 305 The following steps were undertaken to generate CDED derived from 1:50,000 NTDB source data: 1) Flow directionality is applied to the stream coverage using the lake and contour data (arcs pointing downstream), maintaining a connected hydrographic network. 2) Incongruities in the NTDB hydrography and hypsography including the problems in the edgematching with the 8 surrounding tiles are identified and corrected. 3) Elevations on lake polygons corresponding to the lake elevations recorded on the paper map are tagged. 4) A DEM using ANUDEM version 5 with hydrographic network, contours, and elevation points as input data, are produced. 5) Quality Control on the DEM is conducted. 6) The DEM is converted to CDED format. For the final CDED, an automatic inspection is conducted by the Centre for Topographic Information Sherbrooke prior to archiving. Contact CTI for spectific information about this dataset.
Name: Mosaics/IBL_CDED_50K_MOS
Description: CDED data can be used in the generation of three-dimensional graphics displaying terrain slope, profiles and line of sight. The following is copied from cded_086e08_1_0_fgdc_en.xml Product Specifications, Edition 2.1, October 2005. This product is subject to discrepancies detection process. A discrepancy is defined as any deviation of dataset (or metadata) from the product's Standards and Specifications. For information on detected discrepancies refer to the discrepancy section for this product on host Web portal. Minimum Elevation (Z) in meters: 180 Maximum Elevation (Z) in meters: 305 The following steps were undertaken to generate CDED derived from 1:50,000 NTDB source data: 1) Flow directionality is applied to the stream coverage using the lake and contour data (arcs pointing downstream), maintaining a connected hydrographic network. 2) Incongruities in the NTDB hydrography and hypsography including the problems in the edgematching with the 8 surrounding tiles are identified and corrected. 3) Elevations on lake polygons corresponding to the lake elevations recorded on the paper map are tagged. 4) A DEM using ANUDEM version 5 with hydrographic network, contours, and elevation points as input data, are produced. 5) Quality Control on the DEM is conducted. 6) The DEM is converted to CDED format. For the final CDED, an automatic inspection is conducted by the Centre for Topographic Information Sherbrooke prior to archiving. Contact CTI for spectific information about this dataset.
Single Fused Map Cache: false
Extent:
XMin: -2284397.413800001
YMin: 1794755.59376798
XMax: 17.686549660749733
YMax: 4575029.450900003
Spatial Reference: 102002
(102002)
LatestVCSWkid(0)
Initial Extent:
XMin: -2284397.413800001
YMin: 1794755.59376798
XMax: 17.686549660749733
YMax: 4575029.450900003
Spatial Reference: 102002
(102002)
LatestVCSWkid(0)
Full Extent:
XMin: -2284397.413800001
YMin: 1794755.59376798
XMax: 17.686549660749733
YMax: 4575029.450900003
Spatial Reference: 102002
(102002)
LatestVCSWkid(0)
Pixel Size X: 23.191560580999997
Pixel Size Y: 23.191560581
Band Count: 1
Pixel Type: U8
RasterFunction Infos: {"rasterFunctionInfos": [{
"name": "None",
"description": "",
"help": ""
}]}
Mensuration Capabilities:
Has Histograms: true
Has Colormap: false
Has Multi Dimensions : false
Rendering Rule:
Min Scale: 0
Max Scale: 0
Copyright Text: NWT Centre for Geomatics, ENR-ITI Shared Services, Government of the Northwest Territories, 2013
Service Data Type: esriImageServiceDataTypeProcessed
Min Values: 130
Max Values: 221
Mean Values: 180.16465353986598
Standard Deviation Values: 3.901085651859524
Object ID Field: OBJECTID
Fields:
-
OBJECTID
(
type: esriFieldTypeOID, alias: OBJECTID
)
-
Name
(
type: esriFieldTypeString, alias: Name, length: 50
)
-
MinPS
(
type: esriFieldTypeDouble, alias: MinPS
)
-
MaxPS
(
type: esriFieldTypeDouble, alias: MaxPS
)
-
LowPS
(
type: esriFieldTypeDouble, alias: LowPS
)
-
HighPS
(
type: esriFieldTypeDouble, alias: HighPS
)
-
Category
(
type: esriFieldTypeInteger, alias: Category
)
-
Tag
(
type: esriFieldTypeString, alias: Tag, length: 20
)
-
GroupName
(
type: esriFieldTypeString, alias: GroupName, length: 50
)
-
ProductName
(
type: esriFieldTypeString, alias: ProductName, length: 50
)
-
CenterX
(
type: esriFieldTypeDouble, alias: CenterX
)
-
CenterY
(
type: esriFieldTypeDouble, alias: CenterY
)
-
ZOrder
(
type: esriFieldTypeDouble, alias: ZOrder
)
-
SOrder
(
type: esriFieldTypeDouble, alias: SOrder
)
-
StereoID
(
type: esriFieldTypeString, alias: StereoID, length: 50
)
-
Thumbnail
(
type: esriFieldTypeBlob, alias: Thumbnail
)
-
Shape
(
type: esriFieldTypeGeometry, alias: Shape
)
Default Mosaic Method: Center
Allowed Mosaic Methods: Center,NorthWest,LockRaster,ByAttribute,Nadir,Viewpoint,Seamline,None
SortField:
SortValue: null
Mosaic Operator: First
Default Compression Quality: 75
Default Resampling Method: Bilinear
Max Record Count: 1000
Max Image Height: 4100
Max Image Width: 15000
Max Download Image Count: 100
Max Mosaic Image Count: 1000
Allow Raster Function: true
Allow Copy: null
Allow Analysis: null
Allow Compute TiePoints: false
Supports Statistics: true
Supports Advanced Queries: true
Use StandardizedQueries: true
Raster Type Infos:
Name: Raster Dataset
Description: Supports all ArcGIS Raster Datasets
Help:
Has Raster Attribute Table: false
Edit Fields Info: null
Ownership Based AccessControl For Rasters: null
Child Resources:
Info
Histograms
Key Properties
Legend
Raster Function Infos
Supported Operations:
Export Image
Query
Identify
Compute Histograms
Compute Statistics Histograms
Get Samples
Compute Class Statistics
Query Boundary
Compute Pixel Location
Compute Angles
Validate
Project