{ "currentVersion": 10.91, "serviceDescription": "
CDED data can be used in the generation of three-dimensional graphics displaying terrain slope, profiles and line of sight. The following is copied from cded_086e08_1_0_fgdc_en.xml Product Specifications, Edition 2.1, October 2005. This product is subject to discrepancies detection process. A discrepancy is defined as any deviation of dataset (or metadata) from the product's Standards and Specifications. For information on detected discrepancies refer to the discrepancy section for this product on host Web portal. Minimum Elevation (Z) in meters: 180 Maximum Elevation (Z) in meters: 305 The following steps were undertaken to generate CDED derived from 1:50,000 NTDB source data: 1) Flow directionality is applied to the stream coverage using the lake and contour data (arcs pointing downstream), maintaining a connected hydrographic network. 2) Incongruities in the NTDB hydrography and hypsography including the problems in the edgematching with the 8 surrounding tiles are identified and corrected. 3) Elevations on lake polygons corresponding to the lake elevations recorded on the paper map are tagged. 4) A DEM using ANUDEM version 5 with hydrographic network, contours, and elevation points as input data, are produced. 5) Quality Control on the DEM is conducted. 6) The DEM is converted to CDED format. For the final CDED, an automatic inspection is conducted by the Centre for Topographic Information Sherbrooke prior to archiving. Contact CTI for spectific information about this dataset.<\/SPAN><\/P><\/DIV>",
"name": "Mosaics/IBL_CDED_50K_MOS",
"description": " CDED data can be used in the generation of three-dimensional graphics displaying terrain slope, profiles and line of sight. The following is copied from cded_086e08_1_0_fgdc_en.xml Product Specifications, Edition 2.1, October 2005. This product is subject to discrepancies detection process. A discrepancy is defined as any deviation of dataset (or metadata) from the product's Standards and Specifications. For information on detected discrepancies refer to the discrepancy section for this product on host Web portal. Minimum Elevation (Z) in meters: 180 Maximum Elevation (Z) in meters: 305 The following steps were undertaken to generate CDED derived from 1:50,000 NTDB source data: 1) Flow directionality is applied to the stream coverage using the lake and contour data (arcs pointing downstream), maintaining a connected hydrographic network. 2) Incongruities in the NTDB hydrography and hypsography including the problems in the edgematching with the 8 surrounding tiles are identified and corrected. 3) Elevations on lake polygons corresponding to the lake elevations recorded on the paper map are tagged. 4) A DEM using ANUDEM version 5 with hydrographic network, contours, and elevation points as input data, are produced. 5) Quality Control on the DEM is conducted. 6) The DEM is converted to CDED format. For the final CDED, an automatic inspection is conducted by the Centre for Topographic Information Sherbrooke prior to archiving. Contact CTI for spectific information about this dataset.<\/SPAN><\/P><\/DIV>",
"extent": {
"xmin": -2284397.413800001,
"ymin": 1794755.59376798,
"xmax": 17.686549660749733,
"ymax": 4575029.450900003,
"spatialReference": {
"wkid": 102002,
"latestWkid": 102002
}
},
"initialExtent": {
"xmin": -2284397.413800001,
"ymin": 1794755.59376798,
"xmax": 17.686549660749733,
"ymax": 4575029.450900003,
"spatialReference": {
"wkid": 102002,
"latestWkid": 102002
}
},
"fullExtent": {
"xmin": -2284397.413800001,
"ymin": 1794755.59376798,
"xmax": 17.686549660749733,
"ymax": 4575029.450900003,
"spatialReference": {
"wkid": 102002,
"latestWkid": 102002
}
},
"pixelSizeX": 23.191560580999997,
"pixelSizeY": 23.191560581,
"bandCount": 1,
"pixelType": "U8",
"minPixelSize": 0,
"maxPixelSize": 0,
"copyrightText": "NWT Centre for Geomatics, ENR-ITI Shared Services, Government of the Northwest Territories, 2013",
"serviceDataType": "esriImageServiceDataTypeProcessed",
"minValues": [
130
],
"maxValues": [
221
],
"meanValues": [
180.16465353986598
],
"stdvValues": [
3.901085651859524
],
"objectIdField": "OBJECTID",
"fields": [
{
"name": "OBJECTID",
"type": "esriFieldTypeOID",
"alias": "OBJECTID",
"domain": null
},
{
"name": "Name",
"type": "esriFieldTypeString",
"alias": "Name",
"domain": null,
"length": 50
},
{
"name": "MinPS",
"type": "esriFieldTypeDouble",
"alias": "MinPS",
"domain": null
},
{
"name": "MaxPS",
"type": "esriFieldTypeDouble",
"alias": "MaxPS",
"domain": null
},
{
"name": "LowPS",
"type": "esriFieldTypeDouble",
"alias": "LowPS",
"domain": null
},
{
"name": "HighPS",
"type": "esriFieldTypeDouble",
"alias": "HighPS",
"domain": null
},
{
"name": "Category",
"type": "esriFieldTypeInteger",
"alias": "Category",
"domain": null
},
{
"name": "Tag",
"type": "esriFieldTypeString",
"alias": "Tag",
"domain": null,
"length": 20
},
{
"name": "GroupName",
"type": "esriFieldTypeString",
"alias": "GroupName",
"domain": null,
"length": 50
},
{
"name": "ProductName",
"type": "esriFieldTypeString",
"alias": "ProductName",
"domain": null,
"length": 50
},
{
"name": "CenterX",
"type": "esriFieldTypeDouble",
"alias": "CenterX",
"domain": null
},
{
"name": "CenterY",
"type": "esriFieldTypeDouble",
"alias": "CenterY",
"domain": null
},
{
"name": "ZOrder",
"type": "esriFieldTypeDouble",
"alias": "ZOrder",
"domain": null
},
{
"name": "SOrder",
"type": "esriFieldTypeDouble",
"alias": "SOrder",
"domain": null
},
{
"name": "StereoID",
"type": "esriFieldTypeString",
"alias": "StereoID",
"domain": null,
"length": 50
},
{
"name": "Thumbnail",
"type": "esriFieldTypeBlob",
"alias": "Thumbnail",
"domain": null
},
{
"name": "Shape",
"type": "esriFieldTypeGeometry",
"alias": "Shape",
"domain": null
}
],
"capabilities": "Image,Metadata,Catalog",
"defaultMosaicMethod": "Center",
"allowedMosaicMethods": "Center,NorthWest,LockRaster,ByAttribute,Nadir,Viewpoint,Seamline,None",
"sortField": "",
"sortValue": null,
"sortAscending": true,
"mosaicOperator": "First",
"maxDownloadSizeLimit": 0,
"defaultCompressionQuality": 75,
"defaultResamplingMethod": "Bilinear",
"maxImageHeight": 4100,
"maxImageWidth": 15000,
"maxRecordCount": 1000,
"maxDownloadImageCount": 100,
"maxMosaicImageCount": 1000,
"allowRasterFunction": true,
"rasterFunctionInfos": [
{
"name": "None",
"description": "",
"help": ""
}
],
"rasterTypeInfos": [
{
"name": "Raster Dataset",
"description": "Supports all ArcGIS Raster Datasets",
"help": ""
}
],
"mensurationCapabilities": "",
"hasHistograms": true,
"hasColormap": false,
"hasRasterAttributeTable": false,
"minScale": 0,
"maxScale": 0,
"exportTilesAllowed": false,
"hasMultidimensions": false,
"supportsStatistics": true,
"supportsAdvancedQueries": true,
"editFieldsInfo": null,
"ownershipBasedAccessControlForRasters": null,
"allowComputeTiePoints": false,
"useStandardizedQueries": true,
"advancedQueryCapabilities": {
"useStandardizedQueries": true,
"supportsStatistics": true,
"supportsOrderBy": true,
"supportsDistinct": true,
"supportsPagination": true
},
"spatialReference": {
"wkid": 102002,
"latestWkid": 102002
}
}