<?xml version="1.0" encoding="UTF-8" standalone="no"?>
<metadata xml:lang="en">
<Esri>
<CreaDate>20260305</CreaDate>
<CreaTime>09532900</CreaTime>
<ArcGISFormat>1.0</ArcGISFormat>
<SyncOnce>FALSE</SyncOnce>
<DataProperties>
<itemProps>
<imsContentType>002</imsContentType>
<itemName Sync="TRUE">sd.DBO.ELE_NWTCG_LiDAR_DTM_External_Referenced_2023</itemName>
<itemLocation>
<linkage Sync="TRUE">Server=GEOUAT; Service=sde:sqlserver:GEOUAT\SQL1,1450; Database=sd; Version=dbo.DEFAULT</linkage>
<protocol Sync="TRUE">ArcSDE Connection</protocol>
</itemLocation>
<nativeExtBox>
<westBL Sync="TRUE">-15174248.634700</westBL>
<eastBL Sync="TRUE">-12104091.134700</eastBL>
<southBL Sync="TRUE">8396070.017100</southBL>
<northBL Sync="TRUE">10898342.017100</northBL>
<exTypeCode Sync="TRUE">1</exTypeCode>
</nativeExtBox>
</itemProps>
<coordRef>
<type Sync="TRUE">Projected</type>
<geogcsn Sync="TRUE">GCS_WGS_1984</geogcsn>
<csUnits Sync="TRUE">Linear Unit: Meter (1.000000)</csUnits>
<projcsn Sync="TRUE">WGS_1984_Web_Mercator_Auxiliary_Sphere</projcsn>
<peXml Sync="TRUE">&lt;ProjectedCoordinateSystem xsi:type='typens:ProjectedCoordinateSystem' xmlns:xsi='http://www.w3.org/2001/XMLSchema-instance' xmlns:xs='http://www.w3.org/2001/XMLSchema' xmlns:typens='http://www.esri.com/schemas/ArcGIS/2.9.0'&gt;&lt;WKT&gt;PROJCS[&amp;quot;WGS_1984_Web_Mercator_Auxiliary_Sphere&amp;quot;,GEOGCS[&amp;quot;GCS_WGS_1984&amp;quot;,DATUM[&amp;quot;D_WGS_1984&amp;quot;,SPHEROID[&amp;quot;WGS_1984&amp;quot;,6378137.0,298.257223563]],PRIMEM[&amp;quot;Greenwich&amp;quot;,0.0],UNIT[&amp;quot;Degree&amp;quot;,0.0174532925199433]],PROJECTION[&amp;quot;Mercator_Auxiliary_Sphere&amp;quot;],PARAMETER[&amp;quot;False_Easting&amp;quot;,0.0],PARAMETER[&amp;quot;False_Northing&amp;quot;,0.0],PARAMETER[&amp;quot;Central_Meridian&amp;quot;,0.0],PARAMETER[&amp;quot;Standard_Parallel_1&amp;quot;,0.0],PARAMETER[&amp;quot;Auxiliary_Sphere_Type&amp;quot;,0.0],UNIT[&amp;quot;Meter&amp;quot;,1.0],AUTHORITY[&amp;quot;EPSG&amp;quot;,3857]]&lt;/WKT&gt;&lt;XOrigin&gt;-20037700&lt;/XOrigin&gt;&lt;YOrigin&gt;-30241100&lt;/YOrigin&gt;&lt;XYScale&gt;148923141.92838538&lt;/XYScale&gt;&lt;ZOrigin&gt;0&lt;/ZOrigin&gt;&lt;ZScale&gt;1&lt;/ZScale&gt;&lt;MOrigin&gt;0&lt;/MOrigin&gt;&lt;MScale&gt;1&lt;/MScale&gt;&lt;XYTolerance&gt;0.001&lt;/XYTolerance&gt;&lt;ZTolerance&gt;0.001&lt;/ZTolerance&gt;&lt;MTolerance&gt;0.001&lt;/MTolerance&gt;&lt;HighPrecision&gt;true&lt;/HighPrecision&gt;&lt;WKID&gt;102100&lt;/WKID&gt;&lt;LatestWKID&gt;3857&lt;/LatestWKID&gt;&lt;/ProjectedCoordinateSystem&gt;</peXml>
</coordRef>
<RasterProperties>
<General>
<PixelDepth Sync="TRUE">32</PixelDepth>
<HasColormap Sync="TRUE">FALSE</HasColormap>
<CompressionType Sync="TRUE">None</CompressionType>
<NumBands Sync="TRUE">1</NumBands>
<Format Sync="TRUE">AMD</Format>
<HasPyramids Sync="TRUE">TRUE</HasPyramids>
<SourceType Sync="TRUE">continuous</SourceType>
<PixelType Sync="TRUE">floating point</PixelType>
<NoDataValue Sync="TRUE"/>
</General>
<Properties>
<MaxImageHeight Sync="TRUE">15000</MaxImageHeight>
<MaxImageWidth Sync="TRUE">15000</MaxImageWidth>
<MaxRecordCount Sync="TRUE">1000</MaxRecordCount>
<MaxDownloadImageCount Sync="TRUE">10</MaxDownloadImageCount>
<MaxDownloadSizeLimit Sync="TRUE">2048</MaxDownloadSizeLimit>
<MaxMosaicImageCount Sync="TRUE">228</MaxMosaicImageCount>
<DefaultCompressionQuality Sync="TRUE">80</DefaultCompressionQuality>
<DefaultCompressionTolerance Sync="TRUE">0.01</DefaultCompressionTolerance>
<BlendWidth Sync="TRUE">0</BlendWidth>
<ViewpointSpacingX Sync="TRUE">600</ViewpointSpacingX>
<ViewpointSpacingY Sync="TRUE">300</ViewpointSpacingY>
<AllowedItemMetadata Sync="TRUE">Basic</AllowedItemMetadata>
<DefaultResamplingMethod Sync="TRUE">1</DefaultResamplingMethod>
<AllowedMosaicMethods Sync="TRUE">ByAttribute,None,LockRaster</AllowedMosaicMethods>
<AllowedCompressions Sync="TRUE">LZ77,None,LERC</AllowedCompressions>
<AllowedMensurationCapabilities Sync="TRUE">Basic</AllowedMensurationCapabilities>
<AvailableMensurationCapabilities Sync="TRUE">None,Basic,Base-Top Height,Top-Top Shadow Height,Base-Top Shadow Height,3D</AvailableMensurationCapabilities>
<ClipToBoundary Sync="TRUE">0</ClipToBoundary>
<FootprintMayContainNoData Sync="TRUE">0</FootprintMayContainNoData>
<CellSizeTolerance Sync="TRUE">0.8</CellSizeTolerance>
<MinimumPixelContribution Sync="TRUE">1</MinimumPixelContribution>
<AvailableMosaicMethods Sync="TRUE">NorthWest,Center,LockRaster,ByAttribute,Nadir,Viewpoint,Seamline,None</AvailableMosaicMethods>
<AvailableCompressionMethods Sync="TRUE">None,JPEG,LZ77,LERC</AvailableCompressionMethods>
<AvailableItemMetadataLevels Sync="TRUE">None,Basic,Full</AvailableItemMetadataLevels>
<BandDefinitionKeyword Sync="TRUE">NONE</BandDefinitionKeyword>
<_docversion_ Sync="TRUE">10</_docversion_>
<AllowedFields Sync="TRUE">Sr,Source,License,LastDate,FirstDate,Year,ProductName,GroupName,Tag,Name,VDatum,RP</AllowedFields>
<ClipToFootprint Sync="TRUE">-1</ClipToFootprint>
<DataType Sync="TRUE">Elevation</DataType>
<LowCellSize Sync="TRUE">0.5</LowCellSize>
<HighCellSize Sync="TRUE">1458</HighCellSize>
<MaxCellSize Sync="TRUE">0</MaxCellSize>
<ApplyColorCorrection Sync="TRUE">0</ApplyColorCorrection>
<SortField Sync="TRUE">Year</SortField>
<SortValue Sync="TRUE">3000</SortValue>
<SortAscending Sync="TRUE">0</SortAscending>
<MosaicOperator Sync="TRUE">2</MosaicOperator>
<UseTime Sync="TRUE">-1</UseTime>
<StartTimeFieldName Sync="TRUE">FirstDate</StartTimeFieldName>
<EndTimeFieldName Sync="TRUE">LastDate</EndTimeFieldName>
<TimeValueFormat Sync="TRUE">YYYY/MM/DD</TimeValueFormat>
<ConfigKeyword Sync="TRUE"/>
</Properties>
<Functions Sync="TRUE">
<Function Description="Performs on-the-fly mosaic on a raster catalog." Name="Mosaic Function"/>
</Functions>
</RasterProperties>
</DataProperties>
<SyncDate>20260305</SyncDate>
<SyncTime>12362200</SyncTime>
<ModDate>20260305</ModDate>
<ModTime>12465400</ModTime>
<scaleRange>
<minScale>150000000</minScale>
<maxScale>5000</maxScale>
</scaleRange>
<ArcGISProfile>ISO19115_3</ArcGISProfile>
</Esri>
<mdFileID>B5BF0659-8FE0-4D0F-8526-C8F1775F9B07</mdFileID>
<mdLang>
<languageCode value="eng"/>
<countryCode value="US"/>
</mdLang>
<mdChar>
<CharSetCd value="004"/>
</mdChar>
<mdHrLv>
<ScopeCd value="005"/>
</mdHrLv>
<mdContact>
<role>
<RoleCd value="007"/>
</role>
<rpOrgName>NWT Centre for Geomatics</rpOrgName>
<rpCntInfo>
<cntAddress>
<eMailAdd>jurjen_vandersluijs@gov.nt.ca</eMailAdd>
</cntAddress>
</rpCntInfo>
<individual>
<rpIndName>Jurjen van der Sluijs</rpIndName>
<rpPosName>Remote Sensing Lead Scientist</rpPosName>
</individual>
</mdContact>
<mdContact>
<role>
<RoleCd value="001"/>
</role>
<rpOrgName>NWT Centre for Geomatics</rpOrgName>
<rpCntInfo>
<cntAddress>
<eMailAdd>geonwt@gov.nt.ca</eMailAdd>
</cntAddress>
</rpCntInfo>
<individual>
<rpIndName>Geomatics Data Coordinator</rpIndName>
<rpPosName>Geomatics Data Coordinator</rpPosName>
</individual>
</mdContact>
<mdDateSt Sync="TRUE">20260305</mdDateSt>
<mdTimeSt>000000</mdTimeSt>
<mdStanName>ArcGIS Metadata</mdStanName>
<mdStanVer>1.0</mdStanVer>
<dataIdInfo>
<idCitation>
<resTitle>NWTCG_LiDAR_DTM_External_Referenced</resTitle>
<date>
<createDate>2024-10-24T00:00:00</createDate>
</date>
<resEd>Version 3.2.1</resEd>
<resEdDate>20260227</resEdDate>
<resEdTime>000000</resEdTime>
<presForm>
<PresFormCd value="003"/>
</presForm>
<otherCitDet>Changelog:
Version 3.2.1 - February 2026 - Data available up to 2023.
Version 3.2 - May 2025 - Version updated with more data (historical compilation of Beaufort Delta) and updated attribute data.
Version 2.1 - November 2024 - first version of compilation used to test image server.</otherCitDet>
</idCitation>
<idAbs>&lt;div style='text-align:Left;'&gt;&lt;div&gt;&lt;p&gt;&lt;span&gt;Compilation of historical and recent digital elevation models (bare-earth terrain models) derived through Light Detection and Ranging (LiDAR) data of the Northwest Territories. The compilation represents georeferenced coverage of very high resolution data (1 m spatial resolution) of NWT communities, infrastructure corridors, and other areas of interest. Digital terrain models (DTM) represent the elevations of terrain and surface topography devoid of natural or human objects such as vegetation and buildings. Elevations are referenced to either the CGVD28 HT2.0 (Canadian Geodetic Vertical Datum of 1928, Height Transformation 2.0) or the current CGVD2013 (Canadian Geodetic Vertical Datum of 2013) vertical datum, however, for a limited number of datasets the vertical datum is unknown. Models were derived from LiDAR pointclouds at 1-m spatial resolution. LiDAR vendors may have performed positional adjustments based on ground control points where necessary based on project requirements. Positional and elevation accuracies are project-specific, with limited independent validation.&lt;/span&gt;&lt;/p&gt;&lt;/div&gt;&lt;/div&gt;</idAbs>
<idPurp>Compilation of digital elevation models (bare-earth terrain models) derived from Light Detection and Ranging (LiDAR) data of the Northwest Territories.</idPurp>
<idCredit>NWT Centre for Geomatics</idCredit>
<idPoC>
<role>
<RoleCd value="007"/>
</role>
<rpOrgName>NWT Centre for Geomatics</rpOrgName>
<rpCntInfo>
<cntAddress>
<eMailAdd>jurjen_vandersluijs@gov.nt.ca</eMailAdd>
</cntAddress>
</rpCntInfo>
<individual>
<rpIndName>Jurjen van der Sluijs</rpIndName>
<rpPosName>Remote Sensing Lead Scientist</rpPosName>
</individual>
</idPoC>
<idPoC>
<role>
<RoleCd value="001"/>
</role>
<rpOrgName>NWT Centre for Geomatics</rpOrgName>
<rpCntInfo>
<cntAddress>
<eMailAdd>geonwt@gov.nt.ca</eMailAdd>
</cntAddress>
</rpCntInfo>
<individual>
<rpIndName>Geomatics Data Coordinator</rpIndName>
<rpPosName>Geomatics Data Coordinator</rpPosName>
</individual>
</idPoC>
<resMaint>
<maintFreq>
<MaintFreqCd value="009"/>
</maintFreq>
</resMaint>
<otherKeys>
<keyword>LiDAR</keyword>
<keyword>Elevation</keyword>
<keyword>compilation</keyword>
<keyword>northwest territories</keyword>
<keyword>community</keyword>
<keyword>infrastructure</keyword>
</otherKeys>
<searchKeys>
<keyword>LiDAR</keyword>
<keyword>Elevation</keyword>
<keyword>compilation</keyword>
<keyword>northwest territories</keyword>
<keyword>community</keyword>
<keyword>infrastructure</keyword>
</searchKeys>
<resConst>
<Consts>
<useLimit>&lt;div style='text-align:Left;'&gt;&lt;div&gt;&lt;p&gt;&lt;span&gt;Open Government License Northwest Territories (https://www.gov.nt.ca/en/open-government-licence-northwest-territories)&lt;/span&gt;&lt;/p&gt;&lt;/div&gt;&lt;/div&gt;</useLimit>
</Consts>
</resConst>
<spatRpType>
<SpatRepTypCd value="002"/>
</spatRpType>
<dataExt>
<geoEle>
<GeoBndBox>
<exTypeCode>true</exTypeCode>
<westBL>-139.488759</westBL>
<eastBL>-108.732795</eastBL>
<southBL>-0.364674</southBL>
<northBL>72.029167</northBL>
</GeoBndBox>
</geoEle>
</dataExt>
<dataExt>
<geoEle>
<GeoBndBox>
<exTypeCode>true</exTypeCode>
<westBL>-137.888027</westBL>
<eastBL>-108.732795</eastBL>
<southBL>59.85832</southBL>
<northBL>72.029167</northBL>
</GeoBndBox>
</geoEle>
</dataExt>
<dataExt>
<geoEle>
<GeoBndBox>
<exTypeCode>true</exTypeCode>
<westBL>-130.998065</westBL>
<eastBL>-120.514942</eastBL>
<southBL>60.929965</southBL>
<northBL>67.590518</northBL>
</GeoBndBox>
</geoEle>
</dataExt>
<dataExt>
<geoEle>
<GeoBndBox>
<exTypeCode>true</exTypeCode>
<westBL>-130.998065</westBL>
<eastBL>-120.514942</eastBL>
<southBL>60.929965</southBL>
<northBL>67.590518</northBL>
</GeoBndBox>
</geoEle>
</dataExt>
<dataExt>
<geoEle>
<GeoBndBox>
<exTypeCode>true</exTypeCode>
<westBL>-136.312595</westBL>
<eastBL>-108.732901</eastBL>
<southBL>59.983523</southBL>
<northBL>69.502599</northBL>
</GeoBndBox>
</geoEle>
</dataExt>
<dataLang>
<languageCode value="eng"/>
<countryCode value="US"/>
</dataLang>
<dataChar>
<CharSetCd value="004"/>
</dataChar>
<envirDesc> Version 6.2 (Build 9200) ; Esri ArcGIS 10.8.1.14362</envirDesc>
<dataExt>
<geoEle>
<GeoBndBox esriExtentType="search">
<exTypeCode Sync="TRUE">1</exTypeCode>
<westBL Sync="TRUE">-136.312595</westBL>
<eastBL Sync="TRUE">-108.732901</eastBL>
<northBL Sync="TRUE">69.469923</northBL>
<southBL Sync="TRUE">59.983521</southBL>
</GeoBndBox>
</geoEle>
</dataExt>
<tpCat>
<TopicCatCd value="016"/>
</tpCat>
<tpCat>
<TopicCatCd value="017"/>
</tpCat>
<tpCat>
<TopicCatCd value="018"/>
</tpCat>
<tpCat>
<TopicCatCd value="006"/>
</tpCat>
</dataIdInfo>
<mdMaint>
<maintFreq>
<MaintFreqCd value="009"/>
</maintFreq>
</mdMaint>
<spatRepInfo>
<Georect>
<numDims>2</numDims>
<axisDimension type="002">
<dimSize>513560740</dimSize>
<dimResol>
<value uom="m">0.006667</value>
</dimResol>
</axisDimension>
<axisDimension type="001">
<dimSize>1770644336</dimSize>
<dimResol>
<value uom="m">0.006667</value>
</dimResol>
</axisDimension>
<cellGeo>
<CellGeoCd Sync="TRUE" value="002"/>
</cellGeo>
<tranParaAv>true</tranParaAv>
<chkPtAv>false</chkPtAv>
<cornerPts>
<pos>-15527817.674300 -40595.551633</pos>
</cornerPts>
<cornerPts>
<pos>-15527817.674300 11763700.021700</pos>
</cornerPts>
<cornerPts>
<pos>-12104079.407633 11763700.021700</pos>
</cornerPts>
<cornerPts>
<pos>-12104079.407633 -40595.551633</pos>
</cornerPts>
<centerPt>
<pos>-13815948.540967 5861552.235033</pos>
</centerPt>
<ptInPixel>
<PixOrientCd Sync="TRUE" value="001"/>
</ptInPixel>
</Georect>
</spatRepInfo>
<refSysInfo>
<RefSystem>
<refSysID>
<identCode code="3857"/>
<idCodeSpace>EPSG</idCodeSpace>
<idVersion>8.8(9.3.1.2)</idVersion>
</refSysID>
</RefSystem>
</refSysInfo>
<contInfo>
<ImgDesc>
<attDesc>Historical and contemporary elevation models</attDesc>
<contentTyp>
<ContentTypCd Sync="TRUE" value="001"/>
</contentTyp>
<covDim>
<Band>
<seqID>
<aName>1</aName>
<attributeType>
<aName>1</aName>
</attributeType>
</seqID>
<dimDescrp>Red</dimDescrp>
<valUnit>
<UOM type="length">
<gmlIdent codeSpace="GML_UomSymbol">Unified Code of Units of Measure</gmlIdent>
</UOM>
</valUnit>
<bitsPerVal>8</bitsPerVal>
</Band>
</covDim>
<trianInd>false</trianInd>
<radCalDatAv>false</radCalDatAv>
<camCalInAv>false</camCalInAv>
<filmDistInAv>false</filmDistInAv>
<lensDistInAv>false</lensDistInAv>
</ImgDesc>
</contInfo>
</metadata>
