{
 "currentVersion": 10.91,
 "serviceDescription": " The ASTER instrument that was launched onboard NASA\u2019s Terra spacecraft in December 1999 has an along-track stereoscopic capability using two telescopes in its near infrared spectral band to acquire data from nadir and backward views. Over 1.2 million scenes (level-1A products) acquired between March 2000 and August 2008 were used to generate the ASTER Global DEM (ASTGTM) collection. A newly developed cloud mask function was applied to remove cloud effects from scene DEMs as much as possible. ASTER Global DEM was created by stacking all cloud masked DEMs, and a statistical selection algorithm was used to remove abnormal data. Several existing reference DEMs were used to correct residual anomalies where limited scenes were available, including SRTM, NED, CDED, and Alaska DEM. The ASTGTM products include DEM data and a \u2018.num\u2019 file containing quality and reference DEM information. Data Set Characteristics: Geographic Extent: Global between 83º latitude Scene Coverage: 1º x 1º tiles File Format: GEOTIFF Map Projection: Geographic Lat/Lon Datum: WGS84/EGM96 Resolution: 1 arcsecond (30-m horizontal posting at equator) ASTER (Advanced Spaceborne Thermal Emission and Reflection Radiometer) is an imaging sensor onboard the Terra satellite, which was launched in December 1999 as part of NASA's Earth Observing System (EOS). ASTER is a cooperative effort between NASA, Japan's Ministry of Economy, Trade and Industry (METI) and Japan's Earth Remote Sensing Data Analysis Center (ERSDAC). ASTER data is used to create detailed maps of land surface temperature, reflectance and elevation. Data Resolution is 30 meters.",
 "mapName": "Layers",
 "description": "",
 "copyrightText": "NWT Centre for Geomatics",
 "supportsDynamicLayers": false,
 "layers": [
  {
   "id": 0,
   "name": "Name Annotation",
   "parentLayerId": -1,
   "defaultVisibility": true,
   "subLayerIds": [
    1,
    2,
    3,
    5,
    7,
    8,
    12,
    13
   ],
   "minScale": 0,
   "maxScale": 0,
   "type": "Group Layer"
  },
  {
   "id": 1,
   "name": "Geonames - 0-1:60k scale",
   "parentLayerId": 0,
   "defaultVisibility": true,
   "subLayerIds": null,
   "minScale": 60100,
   "maxScale": 0,
   "type": "Feature Layer",
   "geometryType": "esriGeometryPoint"
  },
  {
   "id": 2,
   "name": "NWT Communities - 1:5k-1:5M scale",
   "parentLayerId": 0,
   "defaultVisibility": true,
   "subLayerIds": null,
   "minScale": 5000100,
   "maxScale": 5010,
   "type": "Feature Layer",
   "geometryType": "esriGeometryPoint"
  },
  {
   "id": 3,
   "name": "Provincial Admin Anno - 1:5M-1:30M scale",
   "parentLayerId": 0,
   "defaultVisibility": true,
   "subLayerIds": [
    4
   ],
   "minScale": 30000000,
   "maxScale": 5000001,
   "type": "Annotation Layer",
   "geometryType": "esriGeometryPolygon"
  },
  {
   "id": 4,
   "name": "Default",
   "parentLayerId": 3,
   "defaultVisibility": true,
   "subLayerIds": null,
   "minScale": 0,
   "maxScale": 0
  },
  {
   "id": 5,
   "name": "Lakes Anno - 1:500k-1:10M scale",
   "parentLayerId": 0,
   "defaultVisibility": true,
   "subLayerIds": [
    6
   ],
   "minScale": 10000100,
   "maxScale": 500101,
   "type": "Annotation Layer",
   "geometryType": "esriGeometryPolygon"
  },
  {
   "id": 6,
   "name": "Default",
   "parentLayerId": 5,
   "defaultVisibility": true,
   "subLayerIds": null,
   "minScale": 0,
   "maxScale": 0
  },
  {
   "id": 7,
   "name": "Community - 0-1:1M scale",
   "parentLayerId": 0,
   "defaultVisibility": true,
   "subLayerIds": null,
   "minScale": 1000000,
   "maxScale": 0,
   "type": "Feature Layer",
   "geometryType": "esriGeometryPolygon"
  },
  {
   "id": 8,
   "name": "Boundaries",
   "parentLayerId": 0,
   "defaultVisibility": true,
   "subLayerIds": [
    9,
    10,
    11
   ],
   "minScale": 0,
   "maxScale": 0,
   "type": "Group Layer"
  },
  {
   "id": 9,
   "name": "NWT Boundaries - 0-1:8M scale",
   "parentLayerId": 8,
   "defaultVisibility": true,
   "subLayerIds": null,
   "minScale": 0,
   "maxScale": 8000001,
   "type": "Feature Layer",
   "geometryType": "esriGeometryPolygon"
  },
  {
   "id": 10,
   "name": "Provincial Admin - 0-1:8M scale",
   "parentLayerId": 8,
   "defaultVisibility": true,
   "subLayerIds": null,
   "minScale": 8000000,
   "maxScale": 0,
   "type": "Feature Layer",
   "geometryType": "esriGeometryPolygon"
  },
  {
   "id": 11,
   "name": "Canada Territorial Limits - 0-1:8M scale",
   "parentLayerId": 8,
   "defaultVisibility": true,
   "subLayerIds": null,
   "minScale": 0,
   "maxScale": 1000101,
   "type": "Feature Layer",
   "geometryType": "esriGeometryPolyline"
  },
  {
   "id": 12,
   "name": "World Vector Ocean 250k scale",
   "parentLayerId": 0,
   "defaultVisibility": true,
   "subLayerIds": null,
   "minScale": 0,
   "maxScale": 0,
   "type": "Feature Layer",
   "geometryType": "esriGeometryPolygon"
  },
  {
   "id": 13,
   "name": "InlandWater",
   "parentLayerId": 0,
   "defaultVisibility": true,
   "subLayerIds": [
    14,
    21
   ],
   "minScale": 0,
   "maxScale": 0,
   "type": "Group Layer"
  },
  {
   "id": 14,
   "name": "Low-Med Resolution - 1:300k-30M scale",
   "parentLayerId": 13,
   "defaultVisibility": true,
   "subLayerIds": [
    15,
    16,
    17,
    18,
    19,
    20
   ],
   "minScale": 30000000,
   "maxScale": 300101,
   "type": "Group Layer"
  },
  {
   "id": 15,
   "name": "Major Lakes - 1:10M-1:30M scale",
   "parentLayerId": 14,
   "defaultVisibility": true,
   "subLayerIds": null,
   "minScale": 30000000,
   "maxScale": 10000101,
   "type": "Feature Layer",
   "geometryType": "esriGeometryPolygon"
  },
  {
   "id": 16,
   "name": "Rivers - 1:5M-1:10M scale",
   "parentLayerId": 14,
   "defaultVisibility": true,
   "subLayerIds": null,
   "minScale": 10000100,
   "maxScale": 5000101,
   "type": "Feature Layer",
   "geometryType": "esriGeometryPolyline"
  },
  {
   "id": 17,
   "name": "Rivers - 1:3M-1:5M scale",
   "parentLayerId": 14,
   "defaultVisibility": true,
   "subLayerIds": null,
   "minScale": 5000100,
   "maxScale": 3000101,
   "type": "Feature Layer",
   "geometryType": "esriGeometryPolyline"
  },
  {
   "id": 18,
   "name": "Lakes - 1:3M-1:10M scale",
   "parentLayerId": 14,
   "defaultVisibility": true,
   "subLayerIds": null,
   "minScale": 10000100,
   "maxScale": 3000101,
   "type": "Feature Layer",
   "geometryType": "esriGeometryPolygon"
  },
  {
   "id": 19,
   "name": "Rivers 2M - 1:300k-1:3M scale",
   "parentLayerId": 14,
   "defaultVisibility": true,
   "subLayerIds": null,
   "minScale": 3000100,
   "maxScale": 300101,
   "type": "Feature Layer",
   "geometryType": "esriGeometryPolyline"
  },
  {
   "id": 20,
   "name": "Lakes 2M - 1:300k-1:3M scale",
   "parentLayerId": 14,
   "defaultVisibility": true,
   "subLayerIds": null,
   "minScale": 3000100,
   "maxScale": 300101,
   "type": "Feature Layer",
   "geometryType": "esriGeometryPolygon"
  },
  {
   "id": 21,
   "name": "Med-High Resolution - 0-1:300k scale",
   "parentLayerId": 13,
   "defaultVisibility": true,
   "subLayerIds": [
    22,
    23,
    24,
    25,
    26
   ],
   "minScale": 300100,
   "maxScale": 0,
   "type": "Group Layer"
  },
  {
   "id": 22,
   "name": "Permanent snow ice",
   "parentLayerId": 21,
   "defaultVisibility": true,
   "subLayerIds": null,
   "minScale": 0,
   "maxScale": 0,
   "type": "Feature Layer",
   "geometryType": "esriGeometryPolygon"
  },
  {
   "id": 23,
   "name": "Rivers - 1:60k-1:300k scale",
   "parentLayerId": 21,
   "defaultVisibility": true,
   "subLayerIds": null,
   "minScale": 300100,
   "maxScale": 60001,
   "type": "Feature Layer",
   "geometryType": "esriGeometryPolyline"
  },
  {
   "id": 24,
   "name": "Lakes - 1:60k-1:300k scale",
   "parentLayerId": 21,
   "defaultVisibility": true,
   "subLayerIds": null,
   "minScale": 300100,
   "maxScale": 60001,
   "type": "Feature Layer",
   "geometryType": "esriGeometryPolygon"
  },
  {
   "id": 25,
   "name": "Rivers - 0-1:60k scale",
   "parentLayerId": 21,
   "defaultVisibility": true,
   "subLayerIds": null,
   "minScale": 60000,
   "maxScale": 0,
   "type": "Feature Layer",
   "geometryType": "esriGeometryPolyline"
  },
  {
   "id": 26,
   "name": "Lakes - 0-1:60k scale",
   "parentLayerId": 21,
   "defaultVisibility": true,
   "subLayerIds": null,
   "minScale": 60000,
   "maxScale": 0,
   "type": "Feature Layer",
   "geometryType": "esriGeometryPolygon"
  },
  {
   "id": 27,
   "name": "Aster GDEM",
   "parentLayerId": -1,
   "defaultVisibility": true,
   "subLayerIds": [
    28,
    29,
    30
   ],
   "minScale": 0,
   "maxScale": 0,
   "type": "Mosaic Layer"
  },
  {
   "id": 28,
   "name": "Boundary",
   "parentLayerId": 27,
   "defaultVisibility": false,
   "subLayerIds": null,
   "minScale": 0,
   "maxScale": 0,
   "type": "Feature Layer",
   "geometryType": "esriGeometryPolygon"
  },
  {
   "id": 29,
   "name": "Footprint",
   "parentLayerId": 27,
   "defaultVisibility": false,
   "subLayerIds": null,
   "minScale": 0,
   "maxScale": 0,
   "type": "Feature Layer",
   "geometryType": "esriGeometryPolygon"
  },
  {
   "id": 30,
   "name": "Image",
   "parentLayerId": 27,
   "defaultVisibility": true,
   "subLayerIds": null,
   "minScale": 0,
   "maxScale": 0,
   "type": "Raster Layer"
  }
 ],
 "tables": [],
 "spatialReference": {
  "wkid": 102002,
  "latestWkid": 102002
 },
 "singleFusedMapCache": true,
 "tileInfo": {
  "rows": 256,
  "cols": 256,
  "dpi": 96,
  "format": "MIXED",
  "compressionQuality": 75,
  "origin": {
   "x": -35105400,
   "y": 40955300
  },
  "spatialReference": {
   "wkid": 102002,
   "latestWkid": 102002
  },
  "lods": [
   {
    "level": 0,
    "resolution": 6614.596562526459,
    "scale": 25000000
   },
   {
    "level": 1,
    "resolution": 4233.341800016934,
    "scale": 16000000
   },
   {
    "level": 2,
    "resolution": 2116.670900008467,
    "scale": 8000000
   },
   {
    "level": 3,
    "resolution": 1058.3354500042335,
    "scale": 4000000
   },
   {
    "level": 4,
    "resolution": 264.5838625010584,
    "scale": 1000000
   },
   {
    "level": 5,
    "resolution": 132.2919312505292,
    "scale": 500000
   },
   {
    "level": 6,
    "resolution": 99.21894843789688,
    "scale": 375000
   },
   {
    "level": 7,
    "resolution": 66.1459656252646,
    "scale": 250000
   },
   {
    "level": 8,
    "resolution": 33.0729828126323,
    "scale": 125000
   }
  ]
 },
 "initialExtent": {
  "xmin": -860906.6100324104,
  "ymin": 3672729.568336733,
  "xmax": 607533.8268484639,
  "ymax": 4567023.0235903105,
  "spatialReference": {
   "wkid": 102002,
   "latestWkid": 102002
  }
 },
 "fullExtent": {
  "xmin": -4517922.679400001,
  "ymin": -179942.44700000063,
  "xmax": 3466801.3461000025,
  "ymax": 5850045.704300001,
  "spatialReference": {
   "wkid": 102002,
   "latestWkid": 102002
  }
 },
 "minScale": 25000000,
 "maxScale": 1000,
 "units": "esriMeters",
 "supportedImageFormatTypes": "PNG32,PNG24,PNG,JPG,DIB,TIFF,EMF,PS,PDF,GIF,SVG,SVGZ,BMP",
 "documentInfo": {
  "Title": "NWT Aster DEM",
  "Author": "NWT Centre for Geomatics",
  "Comments": "The ASTER instrument that was launched onboard NASA\u2019s Terra spacecraft in December 1999 has an along-track stereoscopic capability using two telescopes in its near infrared spectral band to acquire data from nadir and backward views. Over 1.2 million scenes (level-1A products) acquired between March 2000 and August 2008 were used to generate the ASTER Global DEM (ASTGTM) collection. A newly developed cloud mask function was applied to remove cloud effects from scene DEMs as much as possible. ASTER Global DEM was created by stacking all cloud masked DEMs, and a statistical selection algorithm was used to remove abnormal data. Several existing reference DEMs were used to correct residual anomalies where limited scenes were available, including SRTM, NED, CDED, and Alaska DEM. The ASTGTM products include DEM data and a \u2018.num\u2019 file containing quality and reference DEM information. Data Set Characteristics: Geographic Extent: Global between 83º latitude Scene Coverage: 1º x 1º tiles File Format: GEOTIFF Map Projection: Geographic Lat/Lon Datum: WGS84/EGM96 Resolution: 1 arcsecond (30-m horizontal posting at equator)\n\nASTER (Advanced Spaceborne Thermal Emission and Reflection Radiometer) is an imaging sensor onboard the Terra satellite, which was launched in December 1999 as part of NASA's Earth Observing System (EOS). ASTER is a cooperative effort between NASA, Japan's Ministry of Economy, Trade and Industry (METI) and Japan's Earth Remote Sensing Data Analysis Center (ERSDAC). ASTER data is used to create detailed maps of land surface temperature, reflectance and elevation. Data Resolution is 30 meters.\n\n",
  "Subject": "The ASTER instrument that was launched onboard NASA\u2019s Terra spacecraft in December 1999 has an along-track stereoscopic capability using two telescopes in its near infrared spectral band to acquire data from nadir and backward views. Over 1.2 million",
  "Category": "",
  "AntialiasingMode": "None",
  "TextAntialiasingMode": "Force",
  "Keywords": "ASTER DEM"
 },
 "capabilities": "Map,Query,Data",
 "supportedQueryFormats": "JSON, geoJSON",
 "exportTilesAllowed": false,
 "referenceScale": 0,
 "datumTransformations": [
  {
   "geoTransforms": [
    {
     "wkid": 108001,
     "latestWkid": 1241,
     "transformForward": true,
     "name": "NAD_1927_To_NAD_1983_NADCON"
    }
   ]
  },
  {
   "geoTransforms": [
    {
     "wkid": 108001,
     "latestWkid": 1241,
     "transformForward": false,
     "name": "NAD_1927_To_NAD_1983_NADCON"
    }
   ]
  }
 ],
 "supportsDatumTransformation": true,
 "maxRecordCount": 1000,
 "maxImageHeight": 4096,
 "maxImageWidth": 4096,
 "supportedExtensions": "KmlServer, WMSServer",
 "resampling": false
}
